BEGIN:VCALENDAR
VERSION:2.0
PRODID:-//Brothers Leagues Club - ECPv6.15.15//NONSGML v1.0//EN
CALSCALE:GREGORIAN
METHOD:PUBLISH
X-WR-CALNAME:Brothers Leagues Club
X-ORIGINAL-URL:https://brothersbackup.mustard.design
X-WR-CALDESC:Events for Brothers Leagues Club
REFRESH-INTERVAL;VALUE=DURATION:PT1H
X-Robots-Tag:noindex
X-PUBLISHED-TTL:PT1H
BEGIN:VTIMEZONE
TZID:Australia/Brisbane
BEGIN:STANDARD
TZOFFSETFROM:+1000
TZOFFSETTO:+1000
TZNAME:AEST
DTSTART:20250101T000000
END:STANDARD
END:VTIMEZONE
BEGIN:VEVENT
DTSTART;TZID=Australia/Brisbane:20260328T180000
DTEND;TZID=Australia/Brisbane:20260328T220000
DTSTAMP:20260421T201445
CREATED:20251118T001645Z
LAST-MODIFIED:20260108T224038Z
UID:69826-1774720800-1774735200@brothersbackup.mustard.design
SUMMARY:Comedy Hypnotist - Rob Young
DESCRIPTION:Enjoy a night out with a buffet dinner followed by a comedy-hypnosis experience like no other\nRob Young isn’t your typical comedian. With a career spanning over seven years across Australia and New Zealand\, he blends quick with the fascinating art of hypnosis to create a wildly entertaining\, interactive show where anything can happen. \nOne minute you’re watching your mate sing opera… the next they’re convinced they’re a goldfish. From dancing to bizarre (but hilarious) scenarios\, Rob’s volunteers become the stars of the show — and no two performances are ever the same. \n“It’s a feel-good show that lets your imagination run wild\,” says Rob. “You’ll either be on stage\, or crying with laughter watching your mates up there.” \nWhether you’re up for a bit of on-stage fun or just want a night full of laughs\, this show is the perfect night out. \nDoors open at 6pm\, with dinner buffet available at 6.30pm and the show starting at 8pm. \nTickets $75pp includes show PLUS a buffet dinner!\nClick here to book
URL:https://brothersbackup.mustard.design/event/comedy-hypnotist-rob-young/
LOCATION:Brothers Leagues Club Cairns\, 99 - 105 Anderson St\, Cairns\, Queensland\, 4870\, Australia
CATEGORIES:Ticketed events,Events
ATTACH;FMTTYPE=image/jpeg:https://brothersbackup.mustard.design/wp-content/uploads/2025/11/Brothers-Leagues-Club-Cairns-1920x1080-1.jpg
END:VEVENT
END:VCALENDAR